BEGIN:VCALENDAR
VERSION:2.0
PRODID:-//Struinen in Haagse Tuinen - ECPv6.15.20//NONSGML v1.0//EN
CALSCALE:GREGORIAN
METHOD:PUBLISH
X-WR-CALNAME:Struinen in Haagse Tuinen
X-ORIGINAL-URL:https://2026.struineninhaagsetuinen.nl
X-WR-CALDESC:Evenementen voor Struinen in Haagse Tuinen
REFRESH-INTERVAL;VALUE=DURATION:PT1H
X-Robots-Tag:noindex
X-PUBLISHED-TTL:PT1H
BEGIN:VTIMEZONE
TZID:Europe/Amsterdam
BEGIN:DAYLIGHT
TZOFFSETFROM:+0100
TZOFFSETTO:+0200
TZNAME:CEST
DTSTART:20250330T010000
END:DAYLIGHT
BEGIN:STANDARD
TZOFFSETFROM:+0200
TZOFFSETTO:+0100
TZNAME:CET
DTSTART:20251026T010000
END:STANDARD
BEGIN:DAYLIGHT
TZOFFSETFROM:+0100
TZOFFSETTO:+0200
TZNAME:CEST
DTSTART:20260329T010000
END:DAYLIGHT
BEGIN:STANDARD
TZOFFSETFROM:+0200
TZOFFSETTO:+0100
TZNAME:CET
DTSTART:20261025T010000
END:STANDARD
BEGIN:DAYLIGHT
TZOFFSETFROM:+0100
TZOFFSETTO:+0200
TZNAME:CEST
DTSTART:20270328T010000
END:DAYLIGHT
BEGIN:STANDARD
TZOFFSETFROM:+0200
TZOFFSETTO:+0100
TZNAME:CET
DTSTART:20271031T010000
END:STANDARD
END:VTIMEZONE
BEGIN:VEVENT
DTSTART;TZID=Europe/Amsterdam:20260620T110000
DTEND;TZID=Europe/Amsterdam:20260621T170000
DTSTAMP:20260422T162615
CREATED:20260422T100649Z
LAST-MODIFIED:20260422T130323Z
UID:15-1781953200-1782061200@2026.struineninhaagsetuinen.nl
SUMMARY:Struinen in haagse tuinen 2026
DESCRIPTION:Voor Struinen in Haagse tuinen\, op 20 en 21 juni a.s.\, kun je de toegangskaarten hieronder bestellen. De toegangskaart bestaat uit een plattegrond met een beschrijving van alle tuinen. Na bestelling en betaling ontvang je per email een bevestiging: check voor de zekerheid de spam-mail als je geen bevestiging in jouw ontvangen berichten ziet.\nVanaf 1 juni is deze af te halen bij de VVV Den Haag Centraal Station op vertoon van de betalingsbevestiging met bestelnummer en QR code. Het weekend zelf kan de toegangskaart met plattegrond op vertoon van de betalingsbevestiging met bestelnummer en QR code opgehaald worden bij zes starttuinen: \n\nTuin 7 : Meer en Boslaan 108\nTuin 15: Eendenlaan 8\nTuin 21: 2e Sweelinckstraat 142\nTuin 39: Zuidwerflaan 17\nTuin 48: Pompstationsweg 163\nTuin 56: Duinstraat 55\nEn bij de VVV op Den Haag Centraal Station\n\nMededeling\nTuinliefhebbers die persoonlijk bericht willen krijgen over het opentuinenweekend\, kunnen zich aanmelden via info@struineninhaagsetuinen.nl of via het contactformulier op deze website.
URL:https://2026.struineninhaagsetuinen.nl/event/struinen-in-haagse-tuinen-2026/
END:VEVENT
END:VCALENDAR